BEGIN:VCALENDAR
VERSION:2.0
PRODID:-//Spartanburg Christian Academy - ECPv6.15.18//NONSGML v1.0//EN
CALSCALE:GREGORIAN
METHOD:PUBLISH
X-WR-CALNAME:Spartanburg Christian Academy
X-ORIGINAL-URL:https://scawarriors.org
X-WR-CALDESC:Events for Spartanburg Christian Academy
REFRESH-INTERVAL;VALUE=DURATION:PT1H
X-Robots-Tag:noindex
X-PUBLISHED-TTL:PT1H
BEGIN:VTIMEZONE
TZID:America/New_York
BEGIN:DAYLIGHT
TZOFFSETFROM:-0500
TZOFFSETTO:-0400
TZNAME:EDT
DTSTART:20240310T070000
END:DAYLIGHT
BEGIN:STANDARD
TZOFFSETFROM:-0400
TZOFFSETTO:-0500
TZNAME:EST
DTSTART:20241103T060000
END:STANDARD
BEGIN:DAYLIGHT
TZOFFSETFROM:-0500
TZOFFSETTO:-0400
TZNAME:EDT
DTSTART:20250309T070000
END:DAYLIGHT
BEGIN:STANDARD
TZOFFSETFROM:-0400
TZOFFSETTO:-0500
TZNAME:EST
DTSTART:20251102T060000
END:STANDARD
BEGIN:DAYLIGHT
TZOFFSETFROM:-0500
TZOFFSETTO:-0400
TZNAME:EDT
DTSTART:20260308T070000
END:DAYLIGHT
BEGIN:STANDARD
TZOFFSETFROM:-0400
TZOFFSETTO:-0500
TZNAME:EST
DTSTART:20261101T060000
END:STANDARD
END:VTIMEZONE
BEGIN:VEVENT
DTSTART;TZID=America/New_York:20250924T073000
DTEND;TZID=America/New_York:20250924T080000
DTSTAMP:20260423T182921
CREATED:20250610T214208Z
LAST-MODIFIED:20250619T182543Z
UID:3366-1758699000-1758700800@scawarriors.org
SUMMARY:See You at the Pole Rally
DESCRIPTION:All students and parents are welcome as we gather around our flag pole to pray for our country. Students in sixth grade and below who are participating in the rally must have a parent in attendance.
URL:https://scawarriors.org/event/see-you-at-the-pole-rally/
LOCATION:SCA Parking Lot
CATEGORIES:School-Wide Event
ATTACH;FMTTYPE=image/jpeg:https://scawarriors.org/wp-content/uploads/2018/06/See-You-at-the-Pole.jpg
END:VEVENT
END:VCALENDAR