BEGIN:VCALENDAR
VERSION:2.0
PRODID:-//Spartanburg Christian Academy - ECPv6.15.18//NONSGML v1.0//EN
CALSCALE:GREGORIAN
METHOD:PUBLISH
X-WR-CALNAME:Spartanburg Christian Academy
X-ORIGINAL-URL:https://scawarriors.org
X-WR-CALDESC:Events for Spartanburg Christian Academy
REFRESH-INTERVAL;VALUE=DURATION:PT1H
X-Robots-Tag:noindex
X-PUBLISHED-TTL:PT1H
BEGIN:VTIMEZONE
TZID:America/New_York
BEGIN:DAYLIGHT
TZOFFSETFROM:-0500
TZOFFSETTO:-0400
TZNAME:EDT
DTSTART:20240310T070000
END:DAYLIGHT
BEGIN:STANDARD
TZOFFSETFROM:-0400
TZOFFSETTO:-0500
TZNAME:EST
DTSTART:20241103T060000
END:STANDARD
BEGIN:DAYLIGHT
TZOFFSETFROM:-0500
TZOFFSETTO:-0400
TZNAME:EDT
DTSTART:20250309T070000
END:DAYLIGHT
BEGIN:STANDARD
TZOFFSETFROM:-0400
TZOFFSETTO:-0500
TZNAME:EST
DTSTART:20251102T060000
END:STANDARD
BEGIN:DAYLIGHT
TZOFFSETFROM:-0500
TZOFFSETTO:-0400
TZNAME:EDT
DTSTART:20260308T070000
END:DAYLIGHT
BEGIN:STANDARD
TZOFFSETFROM:-0400
TZOFFSETTO:-0500
TZNAME:EST
DTSTART:20261101T060000
END:STANDARD
END:VTIMEZONE
BEGIN:VEVENT
DTSTART;TZID=America/New_York:20251022T080000
DTEND;TZID=America/New_York:20251024T110000
DTSTAMP:20260423T164110
CREATED:20250610T215925Z
LAST-MODIFIED:20251006T135206Z
UID:3373-1761120000-1761303600@scawarriors.org
SUMMARY:PSAT Testing
DESCRIPTION:On Wednesday\, October 22nd\, all of our 9th and 10th grade students will be taking the PSAT. All of our 11th grade students will be taking it on Thursday\, October 23rd. The PSAT is given digitally\, so your student will need to make sure they have their computer with them. The only type of computers that cannot be used are Chromebooks. If your child uses a Chromebook for their school work\, we will provide them with a computer to use. We only have a limited supply\, so we do need everyone to bring the computer they normally use. The test will only take around 2 hours and 30 minutes\, so students will have a normal school day outside of their testing time
URL:https://scawarriors.org/event/psat-testing/
CATEGORIES:School-Wide Event
ATTACH;FMTTYPE=image/jpeg:https://scawarriors.org/wp-content/uploads/2018/06/testing.jpg
END:VEVENT
END:VCALENDAR