BEGIN:VCALENDAR
VERSION:2.0
PRODID:-//Spartanburg Christian Academy - ECPv6.15.18//NONSGML v1.0//EN
CALSCALE:GREGORIAN
METHOD:PUBLISH
X-WR-CALNAME:Spartanburg Christian Academy
X-ORIGINAL-URL:https://scawarriors.org
X-WR-CALDESC:Events for Spartanburg Christian Academy
REFRESH-INTERVAL;VALUE=DURATION:PT1H
X-Robots-Tag:noindex
X-PUBLISHED-TTL:PT1H
BEGIN:VTIMEZONE
TZID:America/New_York
BEGIN:DAYLIGHT
TZOFFSETFROM:-0500
TZOFFSETTO:-0400
TZNAME:EDT
DTSTART:20250309T070000
END:DAYLIGHT
BEGIN:STANDARD
TZOFFSETFROM:-0400
TZOFFSETTO:-0500
TZNAME:EST
DTSTART:20251102T060000
END:STANDARD
BEGIN:DAYLIGHT
TZOFFSETFROM:-0500
TZOFFSETTO:-0400
TZNAME:EDT
DTSTART:20260308T070000
END:DAYLIGHT
BEGIN:STANDARD
TZOFFSETFROM:-0400
TZOFFSETTO:-0500
TZNAME:EST
DTSTART:20261101T060000
END:STANDARD
BEGIN:DAYLIGHT
TZOFFSETFROM:-0500
TZOFFSETTO:-0400
TZNAME:EDT
DTSTART:20270314T070000
END:DAYLIGHT
BEGIN:STANDARD
TZOFFSETFROM:-0400
TZOFFSETTO:-0500
TZNAME:EST
DTSTART:20271107T060000
END:STANDARD
END:VTIMEZONE
BEGIN:VEVENT
DTSTART;TZID=America/New_York:20260223T073000
DTEND;TZID=America/New_York:20260227T160000
DTSTAMP:20260423T095550
CREATED:20250610T200741Z
LAST-MODIFIED:20260212T181200Z
UID:4601-1771831800-1772208000@scawarriors.org
SUMMARY:Warrior Library Book Fair Week
DESCRIPTION:The 2026 Warrior Book Fair is Monday\, February 23 – Friday\, February 27.\nOpen 7:30-3:30 in the Warrior Library. \ni55 is the sponsor. \nBook Fair Kick-off is 3:30 – 6:00 pm\, Monday\, February 23rd. \nParents and students are invited to come shop the book fair\, have a snack\, play some games\, and make a bookmark. \n 
URL:https://scawarriors.org/event/warrior-library-book-fair/
LOCATION:Warrior Library\, 8740 Asheville Highway\, Spartanburg\, SC\, 29316\, United States
CATEGORIES:School-Wide Event
ATTACH;FMTTYPE=image/jpeg:https://scawarriors.org/wp-content/uploads/2021/02/2021BookFair.jpg
END:VEVENT
END:VCALENDAR