BEGIN:VCALENDAR
VERSION:2.0
PRODID:-//Spartanburg Christian Academy - ECPv6.15.18//NONSGML v1.0//EN
CALSCALE:GREGORIAN
METHOD:PUBLISH
X-ORIGINAL-URL:https://scawarriors.org
X-WR-CALDESC:Events for Spartanburg Christian Academy
REFRESH-INTERVAL;VALUE=DURATION:PT1H
X-Robots-Tag:noindex
X-PUBLISHED-TTL:PT1H
BEGIN:VTIMEZONE
TZID:America/New_York
BEGIN:DAYLIGHT
TZOFFSETFROM:-0500
TZOFFSETTO:-0400
TZNAME:EDT
DTSTART:20240310T070000
END:DAYLIGHT
BEGIN:STANDARD
TZOFFSETFROM:-0400
TZOFFSETTO:-0500
TZNAME:EST
DTSTART:20241103T060000
END:STANDARD
BEGIN:DAYLIGHT
TZOFFSETFROM:-0500
TZOFFSETTO:-0400
TZNAME:EDT
DTSTART:20250309T070000
END:DAYLIGHT
BEGIN:STANDARD
TZOFFSETFROM:-0400
TZOFFSETTO:-0500
TZNAME:EST
DTSTART:20251102T060000
END:STANDARD
BEGIN:DAYLIGHT
TZOFFSETFROM:-0500
TZOFFSETTO:-0400
TZNAME:EDT
DTSTART:20260308T070000
END:DAYLIGHT
BEGIN:STANDARD
TZOFFSETFROM:-0400
TZOFFSETTO:-0500
TZNAME:EST
DTSTART:20261101T060000
END:STANDARD
END:VTIMEZONE
BEGIN:VEVENT
DTSTART;TZID=America/New_York:20251111T130000
DTEND;TZID=America/New_York:20251111T140000
DTSTAMP:20260423T113735
CREATED:20250610T195352Z
LAST-MODIFIED:20251103T150802Z
UID:1224-1762866000-1762869600@scawarriors.org
SUMMARY:Veteran's Day Program
DESCRIPTION:We would like to invite ALL veterans to our program. \nOur special speaker for this year’s program is Adrian Acosta. \nAdrian Acosta is the Director of Public Relations for Spartanburg School District Two\, a role he has held for nearly 10 years. Born in Colombia\, South America and raised in Boiling Springs since infancy\, Adrian combines deep local roots with a broad range of experience in media\, military service\, and community engagement. \nAdrian earned a Bachelor of Science in Psychology from the College of Charleston. Before joining Spartanburg School District Two\, he spent 13 years working with the Fox affiliate in Greenville\, honing his skills in communications and public affairs. \nIn 2000\, Adrian enlisted in the United States Marine Corps and served as part of the 1st Marine Expeditionary Force during the onset of Operation Iraqi Freedom in 2003. His unit was awarded the Presidential Unit Citation for their actions in Iraq. Adrian earned an honorable discharge at the rank of Sergeant\, and his military decorations include the Global War on Terrorism Medal\, Sea Service Deployment Ribbon\, and the Iraq Campaign Medal with two bronze campaign stars. \nAdrian is a devoted family man\, married for 21 years to his high school sweetheart. Together\, they have four children\, including triplets who are seniors at Boiling Springs High School\, and their oldest daughter\, Natalie\, is a freshman at Converse University. He is an active member of Boiling Springs First Baptist Church\, where he was baptized and born again in the likeness of Jesus in 2018. \n 
URL:https://scawarriors.org/event/veterans-day-program/
LOCATION:First North Sanctuary\, 8740 Asheville Highway\, Spartanburg\, SC\, 29316\, United States
CATEGORIES:School-Wide Event
ATTACH;FMTTYPE=image/jpeg:https://scawarriors.org/wp-content/uploads/2017/09/VeteransDay2017.jpg
END:VEVENT
BEGIN:VEVENT
DTSTART;VALUE=DATE:20251113
DTEND;VALUE=DATE:20251115
DTSTAMP:20260423T113735
CREATED:20250610T122645Z
LAST-MODIFIED:20250619T175917Z
UID:6522-1762992000-1763164799@scawarriors.org
SUMMARY:Theatre Production
DESCRIPTION:Our fall theatre production will be Winnie the Pooh. \nProduction times will be: \nThursday\, November 13 at 9:00 am and 1:00 pm (school shows only) \nFriday\, November 14 at 6:00 pm
URL:https://scawarriors.org/event/election-day/
CATEGORIES:School-Wide Event
ATTACH;FMTTYPE=image/jpeg:https://scawarriors.org/wp-content/uploads/2018/08/drama.jpg
END:VEVENT
BEGIN:VEVENT
DTSTART;VALUE=DATE:20251117
DTEND;VALUE=DATE:20251125
DTSTAMP:20260423T113735
CREATED:20250610T211021Z
LAST-MODIFIED:20251030T180017Z
UID:3891-1763337600-1764028799@scawarriors.org
SUMMARY:Operation Christmas Child Shoebox Collection
DESCRIPTION:Our K3 through 12th grades will be collecting items for our Operation Christmas Child packing project now – November 14.  Each grade level will collect certain items.  ITEMS EACH GRADE LEVEL IS COLLECTING AND MORE! \nWe will have a school-wide packing party on Tuesday\, November 18. \nIf a family wants to make a box\, adhesive boy/girl labels with instructions are located near the front desk.  Please use a standard-size cardboard or plastic shoebox.  These may be returned to the office area or to your student’s homeroom from November 10th -19th.  Families may also BUILD A BOX ONLINE at our SCA link. www.scawarriors.org/shoeboxes \nMore information about Operation Christmas Child is available on this link. https://www.samaritanspurse.org/what-we-do/operation-christmas-child/ \nWe will have a special PTF focused on Operation Christmas Child.\nWe encourage you to take part in our Monday\, November 18th Parent Teacher Fellowship from 3:30-6:30 p.m. in the fellowship hall (park near the fellowship hall). Families are invited to bring their completed Operation Christmas Child shoeboxes\, one per student\, or as many as your family would like to pack! That night\, there will be stations for families to visit as they bring their box.  There will be a photo opp area where families can take a photo with their box or boxes.  Students will have an activity area where they can color and complete a fun worksheet that can go in their box that makes the box even more personal.  Then there will be a station where they\, along with some of our teachers\, can pray over the box.  Shoe boxes and brochures will be available soon in the school office. Include payment in box unless paying online.  Online payment and shoebox packing information is available at:  samaritanspurse.org/occ.  Paying online allows you to follow your box destination. I think you all agree that Operation Christmas Child is a wonderful ministry worthy of our full participation. We are looking forward to seeing our SCA families serve together!
URL:https://scawarriors.org/event/operation-christmas-child-shoebox-collection-2/
CATEGORIES:School-Wide Event
ATTACH;FMTTYPE=image/jpeg:https://scawarriors.org/wp-content/uploads/2018/08/OperationChristmasChild.jpg
END:VEVENT
BEGIN:VEVENT
DTSTART;VALUE=DATE:20251125
DTEND;VALUE=DATE:20251126
DTSTAMP:20260423T113735
CREATED:20250610T123233Z
LAST-MODIFIED:20250619T174718Z
UID:3385-1764028800-1764115199@scawarriors.org
SUMMARY:Early Dismissal
DESCRIPTION:
URL:https://scawarriors.org/event/christian-college-fair/
CATEGORIES:School-Wide Event
ATTACH;FMTTYPE=image/png:https://scawarriors.org/wp-content/uploads/2025/06/early-dismissal.png
END:VEVENT
BEGIN:VEVENT
DTSTART;VALUE=DATE:20251126
DTEND;VALUE=DATE:20251129
DTSTAMP:20260423T113735
CREATED:20250610T121032Z
LAST-MODIFIED:20250619T173733Z
UID:1885-1764115200-1764374399@scawarriors.org
SUMMARY:Thanksgiving Holidays
DESCRIPTION:  \n 
URL:https://scawarriors.org/event/thanksgiving-holidays/
CATEGORIES:School-Wide Event
ATTACH;FMTTYPE=image/jpeg:https://scawarriors.org/wp-content/uploads/2017/10/thanksgiv-day.jpg
END:VEVENT
END:VCALENDAR