BEGIN:VCALENDAR
VERSION:2.0
PRODID:-//Spartanburg Christian Academy - ECPv6.15.18//NONSGML v1.0//EN
CALSCALE:GREGORIAN
METHOD:PUBLISH
X-ORIGINAL-URL:https://scawarriors.org
X-WR-CALDESC:Events for Spartanburg Christian Academy
REFRESH-INTERVAL;VALUE=DURATION:PT1H
X-Robots-Tag:noindex
X-PUBLISHED-TTL:PT1H
BEGIN:VTIMEZONE
TZID:America/New_York
BEGIN:DAYLIGHT
TZOFFSETFROM:-0500
TZOFFSETTO:-0400
TZNAME:EDT
DTSTART:20240310T070000
END:DAYLIGHT
BEGIN:STANDARD
TZOFFSETFROM:-0400
TZOFFSETTO:-0500
TZNAME:EST
DTSTART:20241103T060000
END:STANDARD
BEGIN:DAYLIGHT
TZOFFSETFROM:-0500
TZOFFSETTO:-0400
TZNAME:EDT
DTSTART:20250309T070000
END:DAYLIGHT
BEGIN:STANDARD
TZOFFSETFROM:-0400
TZOFFSETTO:-0500
TZNAME:EST
DTSTART:20251102T060000
END:STANDARD
BEGIN:DAYLIGHT
TZOFFSETFROM:-0500
TZOFFSETTO:-0400
TZNAME:EDT
DTSTART:20260308T070000
END:DAYLIGHT
BEGIN:STANDARD
TZOFFSETFROM:-0400
TZOFFSETTO:-0500
TZNAME:EST
DTSTART:20261101T060000
END:STANDARD
END:VTIMEZONE
BEGIN:VEVENT
DTSTART;TZID=America/New_York:20251028T080000
DTEND;TZID=America/New_York:20251028T110000
DTSTAMP:20260423T132445
CREATED:20250610T200939Z
LAST-MODIFIED:20251006T135329Z
UID:1231-1761638400-1761649200@scawarriors.org
SUMMARY:School Day ACT
DESCRIPTION:On Tuesday\, October 28th\, almost all of our 10th-12th grade students are scheduled to take the ACT. They will need to make sure they are at school between 7:30 and 7:45. The ACT will be over between 12 and 12:30 pm. All students who are taking the ACT will be dismissed at that time. For students that do not drive\, pick up will be at our normal dismissal area at that time. 10th-12th grades students not taking the ACT will not need to come to school\, but should check Google Classroom for any assignments posted by their teachers. \n9th grade students will have a regular school day that day.
URL:https://scawarriors.org/event/school-day-act/
LOCATION:City Lights
CATEGORIES:School-Wide Event
ATTACH;FMTTYPE=image/jpeg:https://scawarriors.org/wp-content/uploads/2017/09/testing.jpg
END:VEVENT
END:VCALENDAR