BEGIN:VCALENDAR
VERSION:2.0
PRODID:-//Spartanburg Christian Academy - ECPv6.15.18//NONSGML v1.0//EN
CALSCALE:GREGORIAN
METHOD:PUBLISH
X-WR-CALNAME:Spartanburg Christian Academy
X-ORIGINAL-URL:https://scawarriors.org
X-WR-CALDESC:Events for Spartanburg Christian Academy
REFRESH-INTERVAL;VALUE=DURATION:PT1H
X-Robots-Tag:noindex
X-PUBLISHED-TTL:PT1H
BEGIN:VTIMEZONE
TZID:America/New_York
BEGIN:DAYLIGHT
TZOFFSETFROM:-0500
TZOFFSETTO:-0400
TZNAME:EDT
DTSTART:20250309T070000
END:DAYLIGHT
BEGIN:STANDARD
TZOFFSETFROM:-0400
TZOFFSETTO:-0500
TZNAME:EST
DTSTART:20251102T060000
END:STANDARD
BEGIN:DAYLIGHT
TZOFFSETFROM:-0500
TZOFFSETTO:-0400
TZNAME:EDT
DTSTART:20260308T070000
END:DAYLIGHT
BEGIN:STANDARD
TZOFFSETFROM:-0400
TZOFFSETTO:-0500
TZNAME:EST
DTSTART:20261101T060000
END:STANDARD
BEGIN:DAYLIGHT
TZOFFSETFROM:-0500
TZOFFSETTO:-0400
TZNAME:EDT
DTSTART:20270314T070000
END:DAYLIGHT
BEGIN:STANDARD
TZOFFSETFROM:-0400
TZOFFSETTO:-0500
TZNAME:EST
DTSTART:20271107T060000
END:STANDARD
END:VTIMEZONE
BEGIN:VEVENT
DTSTART;TZID=America/New_York:20260112T090000
DTEND;TZID=America/New_York:20260112T103000
DTSTAMP:20260423T100703
CREATED:20250610T140039Z
LAST-MODIFIED:20250903T165106Z
UID:5687-1768208400-1768213800@scawarriors.org
SUMMARY:Warrior Day Open House
DESCRIPTION:Spartanburg Christian Academy Open House for prospective families will be on Monday\, January 12\, 2026. Our program and tour will begin at 9:00 a.m. and will conclude by 10:30 a.m.\nRegister online for the event.  https://scawarriors.org/warriordayopenhouse/ 
URL:https://scawarriors.org/event/warrior-day-open-house/
LOCATION:SCA\, 8740 Asheville Highway\, Spartanburg\, SC\, 29316\, United States
CATEGORIES:School-Wide Event
ATTACH;FMTTYPE=image/jpeg:https://scawarriors.org/wp-content/uploads/2019/09/WARRIORDAYforwebsite.jpg
END:VEVENT
END:VCALENDAR