BEGIN:VCALENDAR
VERSION:2.0
PRODID:-//Spartanburg Christian Academy - ECPv6.15.18//NONSGML v1.0//EN
CALSCALE:GREGORIAN
METHOD:PUBLISH
X-WR-CALNAME:Spartanburg Christian Academy
X-ORIGINAL-URL:https://scawarriors.org
X-WR-CALDESC:Events for Spartanburg Christian Academy
REFRESH-INTERVAL;VALUE=DURATION:PT1H
X-Robots-Tag:noindex
X-PUBLISHED-TTL:PT1H
BEGIN:VTIMEZONE
TZID:America/New_York
BEGIN:DAYLIGHT
TZOFFSETFROM:-0500
TZOFFSETTO:-0400
TZNAME:EDT
DTSTART:20250309T070000
END:DAYLIGHT
BEGIN:STANDARD
TZOFFSETFROM:-0400
TZOFFSETTO:-0500
TZNAME:EST
DTSTART:20251102T060000
END:STANDARD
BEGIN:DAYLIGHT
TZOFFSETFROM:-0500
TZOFFSETTO:-0400
TZNAME:EDT
DTSTART:20260308T070000
END:DAYLIGHT
BEGIN:STANDARD
TZOFFSETFROM:-0400
TZOFFSETTO:-0500
TZNAME:EST
DTSTART:20261101T060000
END:STANDARD
BEGIN:DAYLIGHT
TZOFFSETFROM:-0500
TZOFFSETTO:-0400
TZNAME:EDT
DTSTART:20270314T070000
END:DAYLIGHT
BEGIN:STANDARD
TZOFFSETFROM:-0400
TZOFFSETTO:-0500
TZNAME:EST
DTSTART:20271107T060000
END:STANDARD
END:VTIMEZONE
BEGIN:VEVENT
DTSTART;VALUE=DATE:20260121
DTEND;VALUE=DATE:20260124
DTSTAMP:20260423T100648
CREATED:20250610T212523Z
LAST-MODIFIED:20260112T134201Z
UID:3898-1768953600-1769212799@scawarriors.org
SUMMARY:Junior Beta Club Convention
DESCRIPTION:
URL:https://scawarriors.org/event/junior-beta-club-convention/
LOCATION:Mrytle Beach Convention Center\, 2101 N Oak Street\, Myrtle Beach\, SC\, 29577\, United States
CATEGORIES:School-Wide Event
ATTACH;FMTTYPE=image/jpeg:https://scawarriors.org/wp-content/uploads/2018/08/junior-beta.jpg
END:VEVENT
END:VCALENDAR