BEGIN:VCALENDAR
VERSION:2.0
PRODID:-//Spartanburg Christian Academy - ECPv6.15.18//NONSGML v1.0//EN
CALSCALE:GREGORIAN
METHOD:PUBLISH
X-WR-CALNAME:Spartanburg Christian Academy
X-ORIGINAL-URL:https://scawarriors.org
X-WR-CALDESC:Events for Spartanburg Christian Academy
REFRESH-INTERVAL;VALUE=DURATION:PT1H
X-Robots-Tag:noindex
X-PUBLISHED-TTL:PT1H
BEGIN:VTIMEZONE
TZID:America/New_York
BEGIN:DAYLIGHT
TZOFFSETFROM:-0500
TZOFFSETTO:-0400
TZNAME:EDT
DTSTART:20250309T070000
END:DAYLIGHT
BEGIN:STANDARD
TZOFFSETFROM:-0400
TZOFFSETTO:-0500
TZNAME:EST
DTSTART:20251102T060000
END:STANDARD
BEGIN:DAYLIGHT
TZOFFSETFROM:-0500
TZOFFSETTO:-0400
TZNAME:EDT
DTSTART:20260308T070000
END:DAYLIGHT
BEGIN:STANDARD
TZOFFSETFROM:-0400
TZOFFSETTO:-0500
TZNAME:EST
DTSTART:20261101T060000
END:STANDARD
BEGIN:DAYLIGHT
TZOFFSETFROM:-0500
TZOFFSETTO:-0400
TZNAME:EDT
DTSTART:20270314T070000
END:DAYLIGHT
BEGIN:STANDARD
TZOFFSETFROM:-0400
TZOFFSETTO:-0500
TZNAME:EST
DTSTART:20271107T060000
END:STANDARD
END:VTIMEZONE
BEGIN:VEVENT
DTSTART;VALUE=DATE:20260424
DTEND;VALUE=DATE:20260425
DTSTAMP:20260423T063105
CREATED:20240528T191759Z
LAST-MODIFIED:20250619T164209Z
UID:3878-1776988800-1777075199@scawarriors.org
SUMMARY:Bring A Bag Lunch
DESCRIPTION:We will be setting up for our Spring Fundraiser on Friday\, April 24. All students need to bring a bag lunch and drink.  Be sure to pack your utensils.  Microwaves will not be available.
URL:https://scawarriors.org/event/bring-a-bag-lunch/
CATEGORIES:School-Wide Event
ATTACH;FMTTYPE=image/png:https://scawarriors.org/wp-content/uploads/2018/08/lunchbox.png
END:VEVENT
BEGIN:VEVENT
DTSTART;TZID=America/New_York:20260424T170000
DTEND;TZID=America/New_York:20260424T203000
DTSTAMP:20260423T063105
CREATED:20250610T185343Z
LAST-MODIFIED:20260415T191349Z
UID:4434-1777050000-1777062600@scawarriors.org
SUMMARY:Spring Fundraiser and Fine Arts Night
DESCRIPTION:Celebrate America’s 250th at Our Annual Spring Fundraiser and Fine Arts Night! \nJoin us for an evening of community\, history\, and talent as we celebrate our nation’s milestone with a special spring fundraiser and fine arts night! We’re bringing together family and friends for a night of great food and entertainment\, all while supporting our local programs. \nKick Off with an All-American Dinner\nStarting at 5:00 PM in the Fellowship Hall\, we’ll be serving up a classic American menu featuring grilled hamburgers\, hotdogs\, and grilled chicken sandwiches. Whether you’re coming for the full meal or just to socialize\, dinner is optional and open to all. See Dinner Ticket Form for more details.  DINNER TICKET FORM \nStudent Art Gallery & ShowcaseBeginning at 5:00 PM\, we are proud to feature a special gallery of framed artwork created by our talented students. This showcase will be open until 8:30 PM\, and all featured pieces will be available for purchase. It’s a wonderful opportunity to own a unique piece of art while directly supporting our students’ creative efforts! \nBid for a Cause\nOur Silent Auction officially opens at 5:00 PM in the Fellowship Hall. Browse a variety of unique items and experiences—be sure to get your final bids in before the auction closes promptly at 7:00 PM!  Uniform Free Month is one of our MANY items that will be in our silent auction that you can take advantage of now.    UNIFORM FREE FORM \nA Showcase of Fine Arts\nThe celebration continues at 7:15 PM in the Sanctuary with our Fine Arts Program. Experience the incredible talent of our students\, featuring: \n\nPatriotic performances by our Elementary Chorus.\nStirring music from our Bands.\nEngaging performances by our Theatre students.\n\nPiggy Bank Open\nAuction items are payable at the Piggy Bank in the North Room 7:30 – 8:45 PM. \nCome out and help us honor America’s 250th while supporting a great cause. We can’t wait to see you there! with  \nAnother Way to Give at our Spring Fundraiser: \nDid you know you can also be part of our spring fundraiser by donating to our Leave a Legacy Fund? You can print a donation form or give online by going to https://scawarriors.org/give. \nYour donations are tax deductible and they are much appreciated! \ndinner at 5:30 pm. (The dinner menu is coming soon!) \n 
URL:https://scawarriors.org/event/spring-fundraiser/
LOCATION:Fellowship Hall
CATEGORIES:School-Wide Event
ATTACH;FMTTYPE=image/png:https://scawarriors.org/wp-content/uploads/2026/03/3-1.png
END:VEVENT
END:VCALENDAR