BEGIN:VCALENDAR
VERSION:2.0
PRODID:-//Spartanburg Christian Academy - ECPv6.15.18//NONSGML v1.0//EN
CALSCALE:GREGORIAN
METHOD:PUBLISH
X-WR-CALNAME:Spartanburg Christian Academy
X-ORIGINAL-URL:https://scawarriors.org
X-WR-CALDESC:Events for Spartanburg Christian Academy
REFRESH-INTERVAL;VALUE=DURATION:PT1H
X-Robots-Tag:noindex
X-PUBLISHED-TTL:PT1H
BEGIN:VTIMEZONE
TZID:America/New_York
BEGIN:DAYLIGHT
TZOFFSETFROM:-0500
TZOFFSETTO:-0400
TZNAME:EDT
DTSTART:20250309T070000
END:DAYLIGHT
BEGIN:STANDARD
TZOFFSETFROM:-0400
TZOFFSETTO:-0500
TZNAME:EST
DTSTART:20251102T060000
END:STANDARD
BEGIN:DAYLIGHT
TZOFFSETFROM:-0500
TZOFFSETTO:-0400
TZNAME:EDT
DTSTART:20260308T070000
END:DAYLIGHT
BEGIN:STANDARD
TZOFFSETFROM:-0400
TZOFFSETTO:-0500
TZNAME:EST
DTSTART:20261101T060000
END:STANDARD
BEGIN:DAYLIGHT
TZOFFSETFROM:-0500
TZOFFSETTO:-0400
TZNAME:EDT
DTSTART:20270314T070000
END:DAYLIGHT
BEGIN:STANDARD
TZOFFSETFROM:-0400
TZOFFSETTO:-0500
TZNAME:EST
DTSTART:20271107T060000
END:STANDARD
END:VTIMEZONE
BEGIN:VEVENT
DTSTART;VALUE=DATE:20260330
DTEND;VALUE=DATE:20260403
DTSTAMP:20260423T075252
CREATED:20240803T221537Z
LAST-MODIFIED:20250910T183207Z
UID:5403-1774828800-1775174399@scawarriors.org
SUMMARY:8th Grade Washington DC Trip
DESCRIPTION:
URL:https://scawarriors.org/event/8th-grade-washington-dc-trip/
CATEGORIES:School-Wide Event
ATTACH;FMTTYPE=image/jpeg:https://scawarriors.org/wp-content/uploads/2024/08/Washington-DC.jpg
END:VEVENT
BEGIN:VEVENT
DTSTART;VALUE=DATE:20260402
DTEND;VALUE=DATE:20260403
DTSTAMP:20260423T075252
CREATED:20250610T185452Z
LAST-MODIFIED:20250619T165456Z
UID:5368-1775088000-1775174399@scawarriors.org
SUMMARY:High School Service Day
DESCRIPTION:
URL:https://scawarriors.org/event/high-school-service-day/
CATEGORIES:School-Wide Event
ATTACH;FMTTYPE=image/gif:https://scawarriors.org/wp-content/uploads/2019/07/serviceday.gif
END:VEVENT
BEGIN:VEVENT
DTSTART;VALUE=DATE:20260403
DTEND;VALUE=DATE:20260404
DTSTAMP:20260423T075252
CREATED:20240530T232529Z
LAST-MODIFIED:20250619T164425Z
UID:3398-1775174400-1775260799@scawarriors.org
SUMMARY:Good Friday - School Holiday
DESCRIPTION:
URL:https://scawarriors.org/event/good-friday/
CATEGORIES:School-Wide Event
ATTACH;FMTTYPE=image/jpeg:https://scawarriors.org/wp-content/uploads/2018/06/goodfriday.jpg
END:VEVENT
BEGIN:VEVENT
DTSTART;VALUE=DATE:20260406
DTEND;VALUE=DATE:20260411
DTSTAMP:20260423T075252
CREATED:20240530T051606Z
LAST-MODIFIED:20250619T165229Z
UID:1911-1775433600-1775865599@scawarriors.org
SUMMARY:Spring Break
DESCRIPTION:Spring break is from Monday\, April 6 – Friday\, April 10.
URL:https://scawarriors.org/event/good-friday-and-spring-break/
CATEGORIES:School-Wide Event
ATTACH;FMTTYPE=image/jpeg:https://scawarriors.org/wp-content/uploads/2017/10/springbreak.jpg
END:VEVENT
BEGIN:VEVENT
DTSTART;TZID=America/New_York:20260418T183000
DTEND;TZID=America/New_York:20260418T220000
DTSTAMP:20260423T075252
CREATED:20250610T190101Z
LAST-MODIFIED:20260130T152208Z
UID:845-1776537000-1776549600@scawarriors.org
SUMMARY:Prom
DESCRIPTION:Saturday\, April 18\, 2026\n6:30 – 10:00 pm\nTicket: $60.00\nLocation: The Lion’s Gate Manor\n651 Stewart Rd\, Spartanburg\, SC 29306 \nDATE REQUIREMENTS and FORM (NOTICE: Due Wednesday\, March 18) This is to give Mr. Boyd\, who will be approving outside dates\, ample time for approval before prom tickets go on sale. \nDRESS REQUIREMENTS \nGROUP  PICTURE LOCATION AND TIME:\nThe Lion’s Gate Manor will be available to take pictures beginning at 5:00 pm.  The Lion’s Gate Manor has MANY picture options. We will take a group picture of all the juniors at 6:15.  We will take a group picture of all the seniors at 6:20.  Both pictures will be taken at the waterfall. At 6:25 all students will make their way up to the Pavilion while parents leave Lion’s Gate.\nPARKING:\nWhen you get on to Stewart Road\, look for the lions at the first entrance of the Lion’s Gate Manor.  Students – go past the first Lion’s Gate entrance then you can park in the grass on the side of the road.  (A person will be there to instruct you.) Parents (PLEASE CARPOOL WITH GRANDPARENTS\, Aunts/Uncles – PARKING SPACES ARE LIMITED) – pull into the first Lion’s Gate entrance then proceed to go straight beside a green little building.  Follow the drive into a gravel parking lot. 
URL:https://scawarriors.org/event/prom/
LOCATION:Lion’s Gate Manor\, 651 Stewart Road\, Spartanburg\, SC\, 29306\, United States
CATEGORIES:School-Wide Event
ATTACH;FMTTYPE=image/jpeg:https://scawarriors.org/wp-content/uploads/2021/02/IMG_1672.jpeg
END:VEVENT
BEGIN:VEVENT
DTSTART;VALUE=DATE:20260424
DTEND;VALUE=DATE:20260425
DTSTAMP:20260423T075252
CREATED:20240528T191759Z
LAST-MODIFIED:20250619T164209Z
UID:3878-1776988800-1777075199@scawarriors.org
SUMMARY:Bring A Bag Lunch
DESCRIPTION:We will be setting up for our Spring Fundraiser on Friday\, April 24. All students need to bring a bag lunch and drink.  Be sure to pack your utensils.  Microwaves will not be available.
URL:https://scawarriors.org/event/bring-a-bag-lunch/
CATEGORIES:School-Wide Event
ATTACH;FMTTYPE=image/png:https://scawarriors.org/wp-content/uploads/2018/08/lunchbox.png
END:VEVENT
BEGIN:VEVENT
DTSTART;TZID=America/New_York:20260424T170000
DTEND;TZID=America/New_York:20260424T203000
DTSTAMP:20260423T075252
CREATED:20250610T185343Z
LAST-MODIFIED:20260415T191349Z
UID:4434-1777050000-1777062600@scawarriors.org
SUMMARY:Spring Fundraiser and Fine Arts Night
DESCRIPTION:Celebrate America’s 250th at Our Annual Spring Fundraiser and Fine Arts Night! \nJoin us for an evening of community\, history\, and talent as we celebrate our nation’s milestone with a special spring fundraiser and fine arts night! We’re bringing together family and friends for a night of great food and entertainment\, all while supporting our local programs. \nKick Off with an All-American Dinner\nStarting at 5:00 PM in the Fellowship Hall\, we’ll be serving up a classic American menu featuring grilled hamburgers\, hotdogs\, and grilled chicken sandwiches. Whether you’re coming for the full meal or just to socialize\, dinner is optional and open to all. See Dinner Ticket Form for more details.  DINNER TICKET FORM \nStudent Art Gallery & ShowcaseBeginning at 5:00 PM\, we are proud to feature a special gallery of framed artwork created by our talented students. This showcase will be open until 8:30 PM\, and all featured pieces will be available for purchase. It’s a wonderful opportunity to own a unique piece of art while directly supporting our students’ creative efforts! \nBid for a Cause\nOur Silent Auction officially opens at 5:00 PM in the Fellowship Hall. Browse a variety of unique items and experiences—be sure to get your final bids in before the auction closes promptly at 7:00 PM!  Uniform Free Month is one of our MANY items that will be in our silent auction that you can take advantage of now.    UNIFORM FREE FORM \nA Showcase of Fine Arts\nThe celebration continues at 7:15 PM in the Sanctuary with our Fine Arts Program. Experience the incredible talent of our students\, featuring: \n\nPatriotic performances by our Elementary Chorus.\nStirring music from our Bands.\nEngaging performances by our Theatre students.\n\nPiggy Bank Open\nAuction items are payable at the Piggy Bank in the North Room 7:30 – 8:45 PM. \nCome out and help us honor America’s 250th while supporting a great cause. We can’t wait to see you there! with  \nAnother Way to Give at our Spring Fundraiser: \nDid you know you can also be part of our spring fundraiser by donating to our Leave a Legacy Fund? You can print a donation form or give online by going to https://scawarriors.org/give. \nYour donations are tax deductible and they are much appreciated! \ndinner at 5:30 pm. (The dinner menu is coming soon!) \n 
URL:https://scawarriors.org/event/spring-fundraiser/
LOCATION:Fellowship Hall
CATEGORIES:School-Wide Event
ATTACH;FMTTYPE=image/png:https://scawarriors.org/wp-content/uploads/2026/03/3-1.png
END:VEVENT
BEGIN:VEVENT
DTSTART;TZID=America/New_York:20260501T130000
DTEND;TZID=America/New_York:20260501T130000
DTSTAMP:20260423T075252
CREATED:20250610T132611Z
LAST-MODIFIED:20250618T203819Z
UID:7978-1777640400-1777640400@scawarriors.org
SUMMARY:Yearbook Presentation
DESCRIPTION:
URL:https://scawarriors.org/event/yearbook-presentation/
LOCATION:First North Sanctuary\, 8740 Asheville Highway\, Spartanburg\, SC\, 29316\, United States
CATEGORIES:School-Wide Event
ATTACH;FMTTYPE=image/png:https://scawarriors.org/wp-content/uploads/2018/12/yearbook-e1543859338982.png
END:VEVENT
BEGIN:VEVENT
DTSTART;TZID=America/New_York:20260505T113000
DTEND;TZID=America/New_York:20260505T121500
DTSTAMP:20260423T075252
CREATED:20250610T130812Z
LAST-MODIFIED:20250618T203028Z
UID:9334-1777980600-1777983300@scawarriors.org
SUMMARY:Senior Awards Day
DESCRIPTION:
URL:https://scawarriors.org/event/senior-awards-day/
LOCATION:The Rock\, 8740 Asheville Highway\, Spartanburg\, SC\, 29316\, United States
CATEGORIES:School-Wide Event
ATTACH;FMTTYPE=image/jpeg:https://scawarriors.org/wp-content/uploads/2018/01/Awards-blog.jpg
END:VEVENT
BEGIN:VEVENT
DTSTART;VALUE=DATE:20260507
DTEND;VALUE=DATE:20260508
DTSTAMP:20260423T075252
CREATED:20240530T232912Z
LAST-MODIFIED:20250619T164812Z
UID:3401-1778112000-1778198399@scawarriors.org
SUMMARY:National Day of Prayer
DESCRIPTION:
URL:https://scawarriors.org/event/national-day-of-prayer/
CATEGORIES:School-Wide Event
ATTACH;FMTTYPE=image/jpeg:https://scawarriors.org/wp-content/uploads/2018/06/National-Day-of-Prayer-for-Law-Enforcement-Officers.jpg
END:VEVENT
BEGIN:VEVENT
DTSTART;TZID=America/New_York:20260512T113000
DTEND;TZID=America/New_York:20260512T113000
DTSTAMP:20260423T075252
CREATED:20250610T203124Z
LAST-MODIFIED:20250618T202936Z
UID:2293-1778585400-1778585400@scawarriors.org
SUMMARY:High School Awards Day
DESCRIPTION:
URL:https://scawarriors.org/event/middle-school-and-high-school-awards-day/
LOCATION:The Rock\, 8740 Asheville Highway\, Spartanburg\, SC\, 29316\, United States
CATEGORIES:School-Wide Event
ATTACH;FMTTYPE=image/jpeg:https://scawarriors.org/wp-content/uploads/2018/01/Awards-blog.jpg
END:VEVENT
BEGIN:VEVENT
DTSTART;VALUE=DATE:20260513
DTEND;VALUE=DATE:20260516
DTSTAMP:20260423T075252
CREATED:20250610T175430Z
LAST-MODIFIED:20260219T144331Z
UID:5355-1778630400-1778889599@scawarriors.org
SUMMARY:5th Grade Barrier Island Trip
DESCRIPTION:
URL:https://scawarriors.org/event/5th-grade-barrier-island-trip/
CATEGORIES:School-Wide Event
ATTACH;FMTTYPE=image/jpeg:https://scawarriors.org/wp-content/uploads/2019/07/barrierisland.jpg
END:VEVENT
BEGIN:VEVENT
DTSTART;TZID=America/New_York:20260514T113000
DTEND;TZID=America/New_York:20260514T123000
DTSTAMP:20260423T075252
CREATED:20250610T134727Z
LAST-MODIFIED:20250618T202831Z
UID:9769-1778758200-1778761800@scawarriors.org
SUMMARY:Middle School Awards Day
DESCRIPTION:
URL:https://scawarriors.org/event/middle-school-awards-day/
LOCATION:The Rock\, 8740 Asheville Highway\, Spartanburg\, SC\, 29316\, United States
CATEGORIES:School-Wide Event
ATTACH;FMTTYPE=image/jpeg:https://scawarriors.org/wp-content/uploads/2018/01/Awards-blog.jpg
END:VEVENT
BEGIN:VEVENT
DTSTART;TZID=America/New_York:20260517T133000
DTEND;TZID=America/New_York:20260521T150000
DTSTAMP:20260423T075252
CREATED:20250610T160043Z
LAST-MODIFIED:20250618T202637Z
UID:6505-1779024600-1779375600@scawarriors.org
SUMMARY:Senior Disney Trip
DESCRIPTION:
URL:https://scawarriors.org/event/senior-disney-trip/
CATEGORIES:School-Wide Event
ATTACH;FMTTYPE=image/jpeg:https://scawarriors.org/wp-content/uploads/2024/08/disney.jpg
END:VEVENT
BEGIN:VEVENT
DTSTART;TZID=America/New_York:20260518T080000
DTEND;TZID=America/New_York:20260521T110000
DTSTAMP:20260423T075252
CREATED:20250610T234105Z
LAST-MODIFIED:20250618T202401Z
UID:3407-1779091200-1779361200@scawarriors.org
SUMMARY:Middle School and High School Exams (end of year)
DESCRIPTION:High School Exams (9th – 11th):\nWednesday\, May 21 from 8:00 – 11:00 am\nMath and Social Studies \nThursday\, May 22 from 8:00 – 11:00 am\nEnglish and Science \nMiddle School Exams: \nMay 19 – Exams for B day 3rd and 4th period classes will be taken (regular school day)\nMay 20 – Exams for A day 3rd and 4th period classes will be taken (regular school day)\nMay 21 – Exams for B day 1st and 2nd period classes will be taken (11:00am dismissal)\nMay 22 – Exams for A day 1st and 2nd period classes will be taken (11:00am dismissal)
URL:https://scawarriors.org/event/middle-school-and-high-school-exams-end-of-year/
CATEGORIES:School-Wide Event
ATTACH;FMTTYPE=image/jpeg:https://scawarriors.org/wp-content/uploads/2017/10/exams.jpg
END:VEVENT
BEGIN:VEVENT
DTSTART;TZID=America/New_York:20260519T183000
DTEND;TZID=America/New_York:20260519T200000
DTSTAMP:20260423T075252
CREATED:20250610T203723Z
LAST-MODIFIED:20250618T202217Z
UID:2299-1779215400-1779220800@scawarriors.org
SUMMARY:Kindergarten Graduation
DESCRIPTION:
URL:https://scawarriors.org/event/kindergarten-graduation/
LOCATION:First North Sanctuary\, 8740 Asheville Highway\, Spartanburg\, SC\, 29316\, United States
CATEGORIES:School-Wide Event
ATTACH;FMTTYPE=image/jpeg:https://scawarriors.org/wp-content/uploads/2018/01/kindergartengraduation.jpg
END:VEVENT
BEGIN:VEVENT
DTSTART;TZID=America/New_York:20260521T083000
DTEND;TZID=America/New_York:20260521T093000
DTSTAMP:20260423T075252
CREATED:20250610T203311Z
LAST-MODIFIED:20250618T201941Z
UID:2297-1779352200-1779355800@scawarriors.org
SUMMARY:Elementary Awards Day
DESCRIPTION:
URL:https://scawarriors.org/event/elementary-awards-day/
LOCATION:First North Sanctuary\, 8740 Asheville Highway\, Spartanburg\, SC\, 29316\, United States
CATEGORIES:School-Wide Event
ATTACH;FMTTYPE=image/jpeg:https://scawarriors.org/wp-content/uploads/2018/01/Awards-blog.jpg
END:VEVENT
BEGIN:VEVENT
DTSTART;TZID=America/New_York:20260522T190000
DTEND;TZID=America/New_York:20260522T210000
DTSTAMP:20260423T075252
CREATED:20250610T110017Z
LAST-MODIFIED:20250618T201642Z
UID:2302-1779476400-1779483600@scawarriors.org
SUMMARY:Senior Graduation
DESCRIPTION:We would like to invite you to our senior graduation on May 22 at 7:00 pm in the sanctuary. \nA reception for the senior graduate’s immediate family will be in the fellowship hall from 6:00 – 6:45 before the graduation ceremony.
URL:https://scawarriors.org/event/senior-graduation/
LOCATION:First North Sanctuary\, 8740 Asheville Highway\, Spartanburg\, SC\, 29316\, United States
CATEGORIES:School-Wide Event
ATTACH;FMTTYPE=image/jpeg:https://scawarriors.org/wp-content/uploads/2018/01/seniorgraduation.jpg
END:VEVENT
END:VCALENDAR