BEGIN:VCALENDAR
VERSION:2.0
PRODID:-//Spartanburg Christian Academy - ECPv6.15.18//NONSGML v1.0//EN
CALSCALE:GREGORIAN
METHOD:PUBLISH
X-WR-CALNAME:Spartanburg Christian Academy
X-ORIGINAL-URL:https://scawarriors.org
X-WR-CALDESC:Events for Spartanburg Christian Academy
REFRESH-INTERVAL;VALUE=DURATION:PT1H
X-Robots-Tag:noindex
X-PUBLISHED-TTL:PT1H
BEGIN:VTIMEZONE
TZID:America/New_York
BEGIN:DAYLIGHT
TZOFFSETFROM:-0500
TZOFFSETTO:-0400
TZNAME:EDT
DTSTART:20170312T070000
END:DAYLIGHT
BEGIN:STANDARD
TZOFFSETFROM:-0400
TZOFFSETTO:-0500
TZNAME:EST
DTSTART:20171105T060000
END:STANDARD
BEGIN:DAYLIGHT
TZOFFSETFROM:-0500
TZOFFSETTO:-0400
TZNAME:EDT
DTSTART:20180311T070000
END:DAYLIGHT
BEGIN:STANDARD
TZOFFSETFROM:-0400
TZOFFSETTO:-0500
TZNAME:EST
DTSTART:20181104T060000
END:STANDARD
BEGIN:DAYLIGHT
TZOFFSETFROM:-0500
TZOFFSETTO:-0400
TZNAME:EDT
DTSTART:20190310T070000
END:DAYLIGHT
BEGIN:STANDARD
TZOFFSETFROM:-0400
TZOFFSETTO:-0500
TZNAME:EST
DTSTART:20191103T060000
END:STANDARD
BEGIN:DAYLIGHT
TZOFFSETFROM:-0500
TZOFFSETTO:-0400
TZNAME:EDT
DTSTART:20200308T070000
END:DAYLIGHT
BEGIN:STANDARD
TZOFFSETFROM:-0400
TZOFFSETTO:-0500
TZNAME:EST
DTSTART:20201101T060000
END:STANDARD
BEGIN:DAYLIGHT
TZOFFSETFROM:-0500
TZOFFSETTO:-0400
TZNAME:EDT
DTSTART:20210314T070000
END:DAYLIGHT
BEGIN:STANDARD
TZOFFSETFROM:-0400
TZOFFSETTO:-0500
TZNAME:EST
DTSTART:20211107T060000
END:STANDARD
BEGIN:DAYLIGHT
TZOFFSETFROM:-0500
TZOFFSETTO:-0400
TZNAME:EDT
DTSTART:20220313T070000
END:DAYLIGHT
BEGIN:STANDARD
TZOFFSETFROM:-0400
TZOFFSETTO:-0500
TZNAME:EST
DTSTART:20221106T060000
END:STANDARD
BEGIN:DAYLIGHT
TZOFFSETFROM:-0500
TZOFFSETTO:-0400
TZNAME:EDT
DTSTART:20230312T070000
END:DAYLIGHT
BEGIN:STANDARD
TZOFFSETFROM:-0400
TZOFFSETTO:-0500
TZNAME:EST
DTSTART:20231105T060000
END:STANDARD
BEGIN:DAYLIGHT
TZOFFSETFROM:-0500
TZOFFSETTO:-0400
TZNAME:EDT
DTSTART:20240310T070000
END:DAYLIGHT
BEGIN:STANDARD
TZOFFSETFROM:-0400
TZOFFSETTO:-0500
TZNAME:EST
DTSTART:20241103T060000
END:STANDARD
BEGIN:DAYLIGHT
TZOFFSETFROM:-0500
TZOFFSETTO:-0400
TZNAME:EDT
DTSTART:20250309T070000
END:DAYLIGHT
BEGIN:STANDARD
TZOFFSETFROM:-0400
TZOFFSETTO:-0500
TZNAME:EST
DTSTART:20251102T060000
END:STANDARD
BEGIN:DAYLIGHT
TZOFFSETFROM:-0500
TZOFFSETTO:-0400
TZNAME:EDT
DTSTART:20260308T070000
END:DAYLIGHT
BEGIN:STANDARD
TZOFFSETFROM:-0400
TZOFFSETTO:-0500
TZNAME:EST
DTSTART:20261101T060000
END:STANDARD
END:VTIMEZONE
BEGIN:VEVENT
DTSTART;TZID=America/New_York:20250502T083000
DTEND;TZID=America/New_York:20250502T113000
DTSTAMP:20260423T201830
CREATED:20240530T202727Z
LAST-MODIFIED:20240531T130157Z
UID:2290-1746174600-1746185400@scawarriors.org
SUMMARY:Field Day
DESCRIPTION:  \n 
URL:https://scawarriors.org/event/field-day/
LOCATION:Hendrix Field
CATEGORIES:School-Wide Event
ATTACH;FMTTYPE=image/jpeg:https://scawarriors.org/wp-content/uploads/2018/01/WHE-field-Day.jpg
END:VEVENT
BEGIN:VEVENT
DTSTART;TZID=America/New_York:20250127T180000
DTEND;TZID=America/New_York:20250127T190000
DTSTAMP:20260423T201830
CREATED:20240802T183250Z
LAST-MODIFIED:20240807T182441Z
UID:8454-1738000800-1738004400@scawarriors.org
SUMMARY:Junior Ring Ceremony
DESCRIPTION:You are invited to attend the annual ring ceremony at Spartanburg Christian Academy. The class of 2025 will receive their class rings\, and we will celebrate with light refreshments afterward. \nLocation: The Rock    Time: 6:00 pm
URL:https://scawarriors.org/event/junior-ring-ceremony/
LOCATION:The Rock\, 8740 Asheville Highway\, Spartanburg\, SC\, 29316\, United States
CATEGORIES:School-Wide Event
ATTACH;FMTTYPE=image/jpeg:https://scawarriors.org/wp-content/uploads/2017/09/ringsfront.jpg
END:VEVENT
BEGIN:VEVENT
DTSTART;VALUE=DATE:20241126
DTEND;VALUE=DATE:20241127
DTSTAMP:20260423T201830
CREATED:20240803T015924Z
LAST-MODIFIED:20240807T184238Z
UID:4334-1732579200-1732665599@scawarriors.org
SUMMARY:Letter Jacket Ceremony
DESCRIPTION:This year’s recipients will receive their jackets at a ceremony in the gym.  TIME:  TBA
URL:https://scawarriors.org/event/letter-jacket-ceremony/
LOCATION:SCA Gym
CATEGORIES:Athletics Event,School-Wide Event
ATTACH;FMTTYPE=image/jpeg:https://scawarriors.org/wp-content/uploads/2017/09/letterjacket-1.jpg
END:VEVENT
BEGIN:VEVENT
DTSTART;TZID=America/New_York:20240516T190000
DTEND;TZID=America/New_York:20240516T210000
DTSTAMP:20260423T201830
CREATED:20220628T225336Z
LAST-MODIFIED:20240507T133326Z
UID:3916-1715886000-1715893200@scawarriors.org
SUMMARY:Spring Athletic Banquet
DESCRIPTION:
URL:https://scawarriors.org/event/spring-athletic-banquet/
LOCATION:First North Sanctuary\, 8740 Asheville Highway\, Spartanburg\, SC\, 29316\, United States
CATEGORIES:Athletics Event,School-Wide Event
ATTACH;FMTTYPE=image/jpeg:https://scawarriors.org/wp-content/uploads/2018/08/fallspotrs.jpg
END:VEVENT
BEGIN:VEVENT
DTSTART;TZID=America/New_York:20240507T080000
DTEND;TZID=America/New_York:20240515T170000
DTSTAMP:20260423T201830
CREATED:20180610T233649Z
LAST-MODIFIED:20231219T142021Z
UID:3404-1715068800-1715792400@scawarriors.org
SUMMARY:AP Exam Dates
DESCRIPTION:AP Statistics – May 7 \nAP English Literature- May 8 \nAP US History – May 10 \nAP Calculus – May 13 \nAP English Language – May 14 \nAP World History – May 15 \n 
URL:https://scawarriors.org/event/ap-exam-dates/
CATEGORIES:School-Wide Event
ATTACH;FMTTYPE=image/png:https://scawarriors.org/wp-content/uploads/2018/06/Ap-Exam-Dates.png
END:VEVENT
BEGIN:VEVENT
DTSTART;VALUE=DATE:20240315
DTEND;VALUE=DATE:20240316
DTSTAMP:20260423T201830
CREATED:20220603T192609Z
LAST-MODIFIED:20231211T180816Z
UID:6529-1710460800-1710547199@scawarriors.org
SUMMARY:Teacher In-service Day
DESCRIPTION:
URL:https://scawarriors.org/event/teacher-in-service-day-2/
CATEGORIES:School-Wide Event
ATTACH;FMTTYPE=image/jpeg:https://scawarriors.org/wp-content/uploads/2017/06/teacherinservice.jpg
END:VEVENT
BEGIN:VEVENT
DTSTART;TZID=America/New_York:20240313T081500
DTEND;TZID=America/New_York:20240313T090000
DTSTAMP:20260423T201830
CREATED:20220603T185905Z
LAST-MODIFIED:20231211T180412Z
UID:5371-1710317700-1710320400@scawarriors.org
SUMMARY:Junior Beta Club Induction
DESCRIPTION:
URL:https://scawarriors.org/event/junior-beta-club-induction/
LOCATION:First North Sanctuary\, 8740 Asheville Highway\, Spartanburg\, SC\, 29316\, United States
CATEGORIES:School-Wide Event
ATTACH;FMTTYPE=image/jpeg:https://scawarriors.org/wp-content/uploads/2017/10/Logo.jpg
END:VEVENT
BEGIN:VEVENT
DTSTART;VALUE=DATE:20240115
DTEND;VALUE=DATE:20240116
DTSTAMP:20260423T201830
CREATED:20231210T034617Z
LAST-MODIFIED:20240105T143133Z
UID:880-1705276800-1705363199@scawarriors.org
SUMMARY:School Holiday
DESCRIPTION:
URL:https://scawarriors.org/event/teacher-inservice-days-begin/
LOCATION:Spartanburg Christian Academy\, 8740 Asheville Highway\, Spartanburg\, SC\, 29316\, United States
CATEGORIES:School-Wide Event
ATTACH;FMTTYPE=image/jpeg:https://scawarriors.org/wp-content/uploads/2017/10/mlkholiday.jpg
END:VEVENT
BEGIN:VEVENT
DTSTART;TZID=America/New_York:20231025T090000
DTEND;TZID=America/New_York:20231025T100000
DTSTAMP:20260423T201830
CREATED:20231005T015729Z
LAST-MODIFIED:20231005T142519Z
UID:4332-1698224400-1698228000@scawarriors.org
SUMMARY:Make-Up Pictures
DESCRIPTION:Make-up pictures are primarily for students who were absent on picture day. There will be a $5.00 charge for anyone who wishes to have a picture retaken\, unless it is due to photographer error. There is no charge for students who were absent.
URL:https://scawarriors.org/event/make-up-pictures/
CATEGORIES:School-Wide Event
ATTACH;FMTTYPE=image/jpeg:https://scawarriors.org/wp-content/uploads/2018/09/pictureDay5.jpg
END:VEVENT
BEGIN:VEVENT
DTSTART;TZID=America/New_York:20230302T190000
DTEND;TZID=America/New_York:20230302T203000
DTSTAMP:20260423T201830
CREATED:20220622T161615Z
LAST-MODIFIED:20220630T200614Z
UID:6916-1677783600-1677789000@scawarriors.org
SUMMARY:Winter Sports Banquet
DESCRIPTION:
URL:https://scawarriors.org/event/winter-sports-banquet/
LOCATION:SCA\, 8740 Asheville Highway\, Spartanburg\, SC\, 29316\, United States
CATEGORIES:Athletics Event,School-Wide Event
ATTACH;FMTTYPE=image/jpeg:https://scawarriors.org/wp-content/uploads/2018/10/Basketball-generic.jpg
END:VEVENT
BEGIN:VEVENT
DTSTART;VALUE=DATE:20230214
DTEND;VALUE=DATE:20230215
DTSTAMP:20260423T201830
CREATED:20220702T233918Z
LAST-MODIFIED:20230117T200654Z
UID:2624-1676332800-1676419199@scawarriors.org
SUMMARY:Valentine Cupcakes
DESCRIPTION:Student Council Members will be delivering Valentines to students in their classrooms on Tuesday\, February 14th. We have cupcakes available this year and they make great gifts for friends\, family and teachers! \nOrder forms and money should be turned in to your homeroom teacher by Wednesday\, February 1st.  Checks should be made out to SCA. \nVALENTINE ORDER FORMS
URL:https://scawarriors.org/event/valentine-cupcake-grams/
CATEGORIES:School-Wide Event
ATTACH;FMTTYPE=image/jpeg:https://scawarriors.org/wp-content/uploads/2019/01/vday-boat-1024x496.jpg
END:VEVENT
BEGIN:VEVENT
DTSTART;VALUE=DATE:20230210
DTEND;VALUE=DATE:20230212
DTSTAMP:20260423T201830
CREATED:20220829T181707Z
LAST-MODIFIED:20220829T181707Z
UID:8153-1675987200-1676159999@scawarriors.org
SUMMARY:Senior Beta Convention
DESCRIPTION:
URL:https://scawarriors.org/event/senior-beta-convention/
LOCATION:Hilton Myrtle Beach\, Myrtle Beach\, SC
CATEGORIES:School-Wide Event
ATTACH;FMTTYPE=image/jpeg:https://scawarriors.org/wp-content/uploads/2022/08/BetaLogoFRONTSCREEN.jpg
END:VEVENT
BEGIN:VEVENT
DTSTART;VALUE=DATE:20230120
DTEND;VALUE=DATE:20230121
DTSTAMP:20260423T201830
CREATED:20220614T164725Z
LAST-MODIFIED:20220630T130847Z
UID:5977-1674172800-1674259199@scawarriors.org
SUMMARY:Personalize Your Yearbook
DESCRIPTION:PERSONALIZE YOUR YEARBOOK:  DEADLINE – FRIDAY\, JANUARY 20 \nIt is time to Personalize your yearbook!  Every student will receive a yearbook at the end of the year.  However\, if you would like to make your yearbook even more special\, personalize it with your name on the cover.  (One line personalizations only.)You can add up to 4 icons.  Make checks payable to SCA.  Turn in the form below and the money to your student’s homeroom teacher OR you can turn it into the front office.  If you have any questions\, contact: Traci Arledge at tarledge@fbns.org \nYEARBOOK PERSONALIZATION FORM               ICONS
URL:https://scawarriors.org/event/personalize-your-yearbook/
CATEGORIES:School-Wide Event
ATTACH;FMTTYPE=image/jpeg:https://scawarriors.org/wp-content/uploads/2020/01/personalizeyearbook.jpg
END:VEVENT
BEGIN:VEVENT
DTSTART;TZID=America/New_York:20221018T151500
DTEND;TZID=America/New_York:20221018T180000
DTSTAMP:20260423T201830
CREATED:20220622T235943Z
LAST-MODIFIED:20220630T192945Z
UID:2974-1666106100-1666116000@scawarriors.org
SUMMARY:Parent/Teacher Conferences
DESCRIPTION:Parent/Teacher Conferences will be on October 18 or October 25. Elementary/Intermediate \n\n\n\nTeachers will send home signup sheets for conference times.\nReport cards were sent home on Tuesday\, October 15.\n\n\nMiddle School\n\nParents may come to school anytime between 3:15-6:00 pm on this day to speak with teachers.\n.\n\n\nHigh School\n\n\nParents may come to school anytime between 3:15-6:00 pm to speak with teachers.\n\n\n\n  \n 
URL:https://scawarriors.org/event/parent-teacher-conferences/
CATEGORIES:School-Wide Event
ATTACH;FMTTYPE=image/png:https://scawarriors.org/wp-content/uploads/2018/03/parentteacherconf.png
END:VEVENT
BEGIN:VEVENT
DTSTART;TZID=America/New_York:20220126T100000
DTEND;TZID=America/New_York:20220126T110000
DTSTAMP:20260423T201830
CREATED:20210716T012649Z
LAST-MODIFIED:20220107T222348Z
UID:7280-1643191200-1643194800@scawarriors.org
SUMMARY:Special Guest Will Graham
DESCRIPTION:We will have a school-wide chapel on Wednesday\, January 26 at 11:00 am in the sanctuary.  Our guest speaker will be Will Graham (Billy’s grandson).  We invited all of our families and church members to this special chapel.
URL:https://scawarriors.org/event/special-guest-will-graham/
LOCATION:SCA\, 8740 Asheville Highway\, Spartanburg\, SC\, 29316\, United States
CATEGORIES:School-Wide Event
END:VEVENT
BEGIN:VEVENT
DTSTART;VALUE=DATE:20201111
DTEND;VALUE=DATE:20201114
DTSTAMP:20260423T201830
CREATED:20200603T162529Z
LAST-MODIFIED:20201106T162900Z
UID:6509-1605052800-1605311999@scawarriors.org
SUMMARY:Spring Performance Auditions
DESCRIPTION:FROZEN AUDITIONS FORM \nFROZEN AUDITIONS SIGN UP
URL:https://scawarriors.org/event/spring-performance-auditions/
CATEGORIES:School-Wide Event
ATTACH;FMTTYPE=image/jpeg:https://scawarriors.org/wp-content/uploads/2018/08/drama.jpg
END:VEVENT
BEGIN:VEVENT
DTSTART;TZID=America/New_York:20201105T190000
DTEND;TZID=America/New_York:20201105T203000
DTSTAMP:20260423T201830
CREATED:20200702T205949Z
LAST-MODIFIED:20201019T125735Z
UID:3888-1604602800-1604608200@scawarriors.org
SUMMARY:Fall Athletic Banquet
DESCRIPTION:
URL:https://scawarriors.org/event/fall-athletic-banquet/
LOCATION:First North Sanctuary\, 8740 Asheville Highway\, Spartanburg\, SC\, 29316\, United States
CATEGORIES:Athletics Event,School-Wide Event
ATTACH;FMTTYPE=image/jpeg:https://scawarriors.org/wp-content/uploads/2018/08/fallspotrs.jpg
END:VEVENT
BEGIN:VEVENT
DTSTART;TZID=America/New_York:20201009T133000
DTEND;TZID=America/New_York:20201009T150000
DTSTAMP:20260423T201830
CREATED:20200603T160640Z
LAST-MODIFIED:20200603T160640Z
UID:6507-1602250200-1602255600@scawarriors.org
SUMMARY:Homecoming Pep Rally
DESCRIPTION:
URL:https://scawarriors.org/event/homecoming-pep-rally/
LOCATION:SCA Gym
CATEGORIES:Athletics Event,School-Wide Event
ATTACH;FMTTYPE=image/jpeg:https://scawarriors.org/wp-content/uploads/2018/08/fallspotrs.jpg
END:VEVENT
BEGIN:VEVENT
DTSTART;VALUE=DATE:20200915
DTEND;VALUE=DATE:20201007
DTSTAMP:20260423T201830
CREATED:20200910T163801Z
LAST-MODIFIED:20200910T164211Z
UID:6724-1600128000-1602028799@scawarriors.org
SUMMARY:Sweatshirt Orders Limited Time
DESCRIPTION:For a limited time\, you can order SCA attire until October 6. Check out the Sweatshirt Order Form! \nSweatshirt Order Form\nHere are examples of how the sweatshirts look.
URL:https://scawarriors.org/event/sweatshirt-orders-limited-time/
CATEGORIES:School-Wide Event
ATTACH;FMTTYPE=image/jpeg:https://scawarriors.org/wp-content/uploads/2020/09/400.jpg
END:VEVENT
BEGIN:VEVENT
DTSTART;TZID=America/New_York:20200507T103000
DTEND;TZID=America/New_York:20200507T130000
DTSTAMP:20260423T201830
CREATED:20190703T175041Z
LAST-MODIFIED:20190911T183157Z
UID:5352-1588847400-1588856400@scawarriors.org
SUMMARY:Mother's Day Tea for 4K and 5K
DESCRIPTION:4K Mother’s Day Tea will be at 10:30 in classrooms. \n5K Mother’s Day Tea will be at noon. Location: TBD
URL:https://scawarriors.org/event/mothers-day-tea-for-4k-and-5k/
CATEGORIES:School-Wide Event
ATTACH;FMTTYPE=image/png:https://scawarriors.org/wp-content/uploads/2019/07/MomDay.png
END:VEVENT
BEGIN:VEVENT
DTSTART;TZID=America/New_York:20200113T183000
DTEND;TZID=America/New_York:20200113T193000
DTSTAMP:20260423T201830
CREATED:20191216T140607Z
LAST-MODIFIED:20191216T144634Z
UID:3875-1578940200-1578943800@scawarriors.org
SUMMARY:Junior Parent Meeting
DESCRIPTION:Mrs. Williams will be meeting with juniors and their parents for an important meeting on Monday\, Jan. 13 at 6:30 in the Fellowship Hall.
URL:https://scawarriors.org/event/senior-parent-meeting/
LOCATION:Fellowship Hall
ATTACH;FMTTYPE=image/jpeg:https://scawarriors.org/wp-content/uploads/2018/08/PutThisOnYourCalendar-e1535467495303.jpg
END:VEVENT
BEGIN:VEVENT
DTSTART;TZID=America/New_York:20200113T183000
DTEND;TZID=America/New_York:20200113T193000
DTSTAMP:20260423T201830
CREATED:20190109T202902Z
LAST-MODIFIED:20191216T144536Z
UID:3873-1578940200-1578943800@scawarriors.org
SUMMARY:Important Junior and Senior Parent Meeting
DESCRIPTION:Attention Senior Parents:  There will be a very important and informative Financial Aid meeting on Monday\, January 13th at 6:30 pm in the Parlor. \nThere will be a college Financial Aid Director and admissions representative here to answer your questions.  Some topics included will be navigating the FAFSA\, interpreting financial aid letters\, looking for additional aid\, and scholarships\, grants and loans.  Please don’t miss this opportunity to take care of all things “financial aid” before your seniors graduate and head off to college. \nAttention Juniors and Parents:   On Monday\, January 13th there will be a very important meeting conducted by Mrs. Williams\, our Guidance Counselor. \nThis meeting will be about preparing for the Senior year and topics will include:  PSAT results; taking the SAT/ACT; College Timeline and Process; Scholarships; and NCAA Eligibility for athletes.   Due to the importance of this meeting\, ALL JUNIORS AND THEIR PARENTS SHOULD BE IN ATTENDANCE!  *The meeting will take place in the fellowship hall at 6:30 pm. \n  \n*Please note that the Junior and Senior meetings are taking place simultaneously in different areas.
URL:https://scawarriors.org/event/important-junior-and-senior-parent-meeting/
LOCATION:Spartanburg Christian Academy\, 8740 Asheville Highway\, Spartanburg\, SC\, 29316\, United States
CATEGORIES:School-Wide Event
ATTACH;FMTTYPE=image/jpeg:https://scawarriors.org/wp-content/uploads/2019/01/Important-Meetings.jpg
END:VEVENT
BEGIN:VEVENT
DTSTART;TZID=America/New_York:20200109T083000
DTEND;TZID=America/New_York:20200109T120000
DTSTAMP:20260423T201830
CREATED:20190703T205636Z
LAST-MODIFIED:20190911T181045Z
UID:5383-1578558600-1578571200@scawarriors.org
SUMMARY:SCA Spelling Bee
DESCRIPTION:Our school spelling bee will be on Thursday\, January 9 beginning at 8:30 am for 1st – 8th grades.
URL:https://scawarriors.org/event/sca-spelling-bee/
CATEGORIES:School-Wide Event
ATTACH;FMTTYPE=image/jpeg:https://scawarriors.org/wp-content/uploads/2019/07/Spelling-Bee.jpg
END:VEVENT
BEGIN:VEVENT
DTSTART;TZID=America/New_York:20191113T183000
DTEND;TZID=America/New_York:20191113T183000
DTSTAMP:20260423T201830
CREATED:20191101T175417Z
LAST-MODIFIED:20191101T175417Z
UID:5789-1573669800-1573669800@scawarriors.org
SUMMARY:Engage at First North
DESCRIPTION:Join us for a FREE\, one-night workshop to help you navigate the challenges of technology in your family. \nEngage Workshop 2019 Flyer
URL:https://scawarriors.org/event/engage-at-first-north/
LOCATION:Fellowship Hall
ATTACH;FMTTYPE=image/jpeg:https://scawarriors.org/wp-content/uploads/2019/11/engage-.jpg
END:VEVENT
BEGIN:VEVENT
DTSTART;TZID=America/New_York:20191015T151500
DTEND;TZID=America/New_York:20191015T180000
DTSTAMP:20260423T201830
CREATED:20180928T202108Z
LAST-MODIFIED:20191014T161854Z
UID:4052-1571152500-1571162400@scawarriors.org
SUMMARY:Parent/Teacher Conferences
DESCRIPTION:Elementary/Intermediate\n\nTeachers will send home signup sheets for conference times.\nReport cards will be sent home on Tuesday\, October 15.\n\n\nMiddle School and High School\n\nReport cards will be sent home with students on Tuesday\, October 15th.\nParents may come to school anytime between 3:15-6:00 pm on October 15th or October 22nd to speak with teachers.
URL:https://scawarriors.org/event/parent-teacher-conferences-2/
CATEGORIES:School-Wide Event
ATTACH;FMTTYPE=image/jpeg:https://scawarriors.org/wp-content/uploads/2018/09/Parent-Teacher-Conferences.jpg
END:VEVENT
BEGIN:VEVENT
DTSTART;TZID=America/New_York:20190903T043000
DTEND;TZID=America/New_York:20190903T053000
DTSTAMP:20260423T201830
CREATED:20190830T170919Z
LAST-MODIFIED:20190830T170919Z
UID:5606-1567485000-1567488600@scawarriors.org
SUMMARY:Interested in Substitute Teaching?
DESCRIPTION:We need substitute teachers!  We will be having a meeting THIS TUESDAY\, Sep. 3 at 8:30 am in the parlor.
URL:https://scawarriors.org/event/interested-in-substitute-teaching/
LOCATION:SCA Parlor
CATEGORIES:School-Wide Event
ATTACH;FMTTYPE=image/jpeg:https://scawarriors.org/wp-content/uploads/2019/08/SubstituteTeacher.jpg
END:VEVENT
BEGIN:VEVENT
DTSTART;TZID=America/New_York:20190311T103000
DTEND;TZID=America/New_York:20190311T113000
DTSTAMP:20260423T201830
CREATED:20190226T182507Z
LAST-MODIFIED:20190226T182903Z
UID:5014-1552300200-1552303800@scawarriors.org
SUMMARY:SCA Student Talent Showcase Auditions
DESCRIPTION:Calling all singers\, dancers\, instrumentalists\, monologists\, jugglers\, etc.\, etc.\, etc. \nThe 2019 SCA Student Talent Showcase will be during the SCA IS DETERMINED Spring Fundraiser Celebration on Friday night\, April 26th in the fellowship hall. 12 students will be selected to perform. Auditions will be Monday\, March 11th beginning at 2:30 for K-2nd graders\, 2:45 for 3rd-4th\, and 3:00 for 5th-12th in The Rock Worship Center in The First North Youth Building. Parents will pick up their child at the Rock.  If your child is in Extended Care a teacher will return him or her to EC. Sign-ups begin immediately with Mrs. Foster. If you have any questions you may email Mrs. Foster at KFoster@fbns.org \nPlease print and complete the form below and return to Mrs. Foster by Wednesday\, March 6th. \nAUDITION FORM FOR TALENT SHOWCASE
URL:https://scawarriors.org/event/sca-student-talent-showcase-auditions/
LOCATION:The Rock\, 8740 Asheville Highway\, Spartanburg\, SC\, 29316\, United States
CATEGORIES:School-Wide Event
ATTACH;FMTTYPE=image/png:https://scawarriors.org/wp-content/uploads/2019/02/Talentshowcase.png
END:VEVENT
BEGIN:VEVENT
DTSTART;TZID=America/New_York:20190209T140000
DTEND;TZID=America/New_York:20190209T160000
DTSTAMP:20260423T201830
CREATED:20180727T221006Z
LAST-MODIFIED:20190109T192144Z
UID:3458-1549720800-1549728000@scawarriors.org
SUMMARY:Tim Hawkins LIVE
DESCRIPTION:TIM HAWKINS LIVE SOLD OUT!\nTim Hawkins will be coming to SCA! The performance will be held in the First North Sanctuary.\nOur address is 8740 Asheville Highway\, Spartanburg SC\, 29316\nDoors open at 6:15 pm!\nYou choose from general admission\, premium admission and an Uber Fan Package admission. (Uber Fan Package admission is only available for 60 people.) \nBUY TICKETS HERE
URL:https://scawarriors.org/event/tim-hawkins-live/
LOCATION:First North Sanctuary\, 8740 Asheville Highway\, Spartanburg\, SC\, 29316\, United States
CATEGORIES:School-Wide Event
ATTACH;FMTTYPE=image/jpeg:https://scawarriors.org/wp-content/uploads/2018/07/TIMHAWKINSwebbannertimjonnie.jpg
END:VEVENT
BEGIN:VEVENT
DTSTART;TZID=America/New_York:20181003T031500
DTEND;TZID=America/New_York:20181003T035500
DTSTAMP:20260423T201830
CREATED:20180920T155704Z
LAST-MODIFIED:20180921T212449Z
UID:4019-1538536500-1538538900@scawarriors.org
SUMMARY:Iwalk - International Walk to School
DESCRIPTION:THE WALK\nIs an exciting campaign asking parents\, pupils and teachers to incorporate regular physical activity into their daily lives by walking whenever possible. At SCA we have chosen to walk at school on October 3\, 2018 Last year there were students\, parents and grandparents who participated in the Warrior Walk. \nOctober is designated as the International Walk to School Month- giving children\, parents\, school teachers and community leaders an opportunity to be part of a global event as they celebrate the many benefits of walking. \nWHO’S WALKING?\nThe event was established as “International” in 2000\, when Canada and the U.K. joined with the U.S. to celebrate. Around the globe\, International Walk to School Month brings together more than 40 countries in recognition of the common interest in walking to school. \nWHY WALK?\nEncourage Physical Activity\nPromote Family Fitness\nHealth\, Safety and Environment Benefits\nShare valuable time with local community leaders\, parents and children \nTHE WARRIOR WALK\nSCA welcomes Gregg Nibert to the Warrior Walk as the Grand Marshal. Gregg comes to SCA from Clinton\, SC where he served for 28 years as the Presbyterian College Men’s Basketball Coach. He and his wife\, Peggy and their 2 sons\, Shaun and Van have provided foster care to over 50 babies. Now a Warrior teaching MS and HS PE classes Gregg continues his passion for young people of all ages. Let’s all come out and start this fall season as a Warrior Family committed to Family and Fitness. \n  \nPark behind the playground.\nThe walk will take place on the sidewalk starting at the gym.\nStudents must be accompanied by a parent.\nCar lines will proceed as normal for those who cannot participate.\nWalk will begin promptly at 7:15 at the gym.\nWalk will end at 7:55 outside the gym.\nIf it rains the Warrior Walk will be in the gym.
URL:https://scawarriors.org/event/iwalk-international-walk-to-school/
LOCATION:SCA Gym
CATEGORIES:School-Wide Event
ATTACH;FMTTYPE=image/jpeg:https://scawarriors.org/wp-content/uploads/2018/09/Walk-to-School-FIN1.jpg
END:VEVENT
BEGIN:VEVENT
DTSTART;TZID=America/New_York:20180823T043000
DTEND;TZID=America/New_York:20180823T053000
DTSTAMP:20260423T201830
CREATED:20170615T042709Z
LAST-MODIFIED:20180610T234821Z
UID:899-1534998600-1535002200@scawarriors.org
SUMMARY:Substitute Teacher Meeting
DESCRIPTION:If you are interested in substituting at SCA\, please join us for a substitute teacher meeting.
URL:https://scawarriors.org/event/substitute-teacher-meeting/
LOCATION:Fellowship Hall
CATEGORIES:Parent/Grandparent Event,School-Wide Event
ATTACH;FMTTYPE=image/jpeg:https://scawarriors.org/wp-content/uploads/2017/06/SubstituteTeacher.jpg
END:VEVENT
END:VCALENDAR