BEGIN:VCALENDAR
VERSION:2.0
PRODID:-//Spartanburg Christian Academy - ECPv6.15.18//NONSGML v1.0//EN
CALSCALE:GREGORIAN
METHOD:PUBLISH
X-ORIGINAL-URL:https://scawarriors.org
X-WR-CALDESC:Events for Spartanburg Christian Academy
REFRESH-INTERVAL;VALUE=DURATION:PT1H
X-Robots-Tag:noindex
X-PUBLISHED-TTL:PT1H
BEGIN:VTIMEZONE
TZID:America/New_York
BEGIN:DAYLIGHT
TZOFFSETFROM:-0500
TZOFFSETTO:-0400
TZNAME:EDT
DTSTART:20250309T070000
END:DAYLIGHT
BEGIN:STANDARD
TZOFFSETFROM:-0400
TZOFFSETTO:-0500
TZNAME:EST
DTSTART:20251102T060000
END:STANDARD
BEGIN:DAYLIGHT
TZOFFSETFROM:-0500
TZOFFSETTO:-0400
TZNAME:EDT
DTSTART:20260308T070000
END:DAYLIGHT
BEGIN:STANDARD
TZOFFSETFROM:-0400
TZOFFSETTO:-0500
TZNAME:EST
DTSTART:20261101T060000
END:STANDARD
BEGIN:DAYLIGHT
TZOFFSETFROM:-0500
TZOFFSETTO:-0400
TZNAME:EDT
DTSTART:20270314T070000
END:DAYLIGHT
BEGIN:STANDARD
TZOFFSETFROM:-0400
TZOFFSETTO:-0500
TZNAME:EST
DTSTART:20271107T060000
END:STANDARD
END:VTIMEZONE
BEGIN:VEVENT
DTSTART;TZID=America/New_York:20260519T183000
DTEND;TZID=America/New_York:20260519T200000
DTSTAMP:20260423T050238
CREATED:20250610T203723Z
LAST-MODIFIED:20250618T202217Z
UID:2299-1779215400-1779220800@scawarriors.org
SUMMARY:Kindergarten Graduation
DESCRIPTION:
URL:https://scawarriors.org/event/kindergarten-graduation/
LOCATION:First North Sanctuary\, 8740 Asheville Highway\, Spartanburg\, SC\, 29316\, United States
CATEGORIES:School-Wide Event
ATTACH;FMTTYPE=image/jpeg:https://scawarriors.org/wp-content/uploads/2018/01/kindergartengraduation.jpg
END:VEVENT
BEGIN:VEVENT
DTSTART;TZID=America/New_York:20260521T083000
DTEND;TZID=America/New_York:20260521T093000
DTSTAMP:20260423T050238
CREATED:20250610T203311Z
LAST-MODIFIED:20250618T201941Z
UID:2297-1779352200-1779355800@scawarriors.org
SUMMARY:Elementary Awards Day
DESCRIPTION:
URL:https://scawarriors.org/event/elementary-awards-day/
LOCATION:First North Sanctuary\, 8740 Asheville Highway\, Spartanburg\, SC\, 29316\, United States
CATEGORIES:School-Wide Event
ATTACH;FMTTYPE=image/jpeg:https://scawarriors.org/wp-content/uploads/2018/01/Awards-blog.jpg
END:VEVENT
BEGIN:VEVENT
DTSTART;TZID=America/New_York:20260522T190000
DTEND;TZID=America/New_York:20260522T210000
DTSTAMP:20260423T050238
CREATED:20250610T110017Z
LAST-MODIFIED:20250618T201642Z
UID:2302-1779476400-1779483600@scawarriors.org
SUMMARY:Senior Graduation
DESCRIPTION:We would like to invite you to our senior graduation on May 22 at 7:00 pm in the sanctuary. \nA reception for the senior graduate’s immediate family will be in the fellowship hall from 6:00 – 6:45 before the graduation ceremony.
URL:https://scawarriors.org/event/senior-graduation/
LOCATION:First North Sanctuary\, 8740 Asheville Highway\, Spartanburg\, SC\, 29316\, United States
CATEGORIES:School-Wide Event
ATTACH;FMTTYPE=image/jpeg:https://scawarriors.org/wp-content/uploads/2018/01/seniorgraduation.jpg
END:VEVENT
END:VCALENDAR